Workbook
Name ATTR_PROD_MANU_AddressCountry: LOV!$BL$4:$BL$252
Name ATTR_PROD_MANU_EuEstablished: LOV!$BK$4:$BK$5
Name ATTR_PROD_MANU_OverrideContactDetails: LOV!$BJ$4:$BJ$5
Name Boolean: LOV!$A$4:$A$5
Name Numbers: LOV!$B$4:$B$14
Name PROD_FEAT: PROD_FEAT!$A$2:$D$492
Name PROD_FEAT_00003: LOV!$C$4:$C$21
Name PROD_FEAT_10068: LOV!$AP$4:$AP$8
Name PROD_FEAT_10401: LOV!$N$4:$N$10
Name PROD_FEAT_10401_koelkast: LOV!$N$4:$N$10
Name PROD_FEAT_10401_vaatwasser: LOV!$AD$4:$AD$10
Name PROD_FEAT_10401_vriezers: LOV!$Z$4:$Z$7
Name PROD_FEAT_10519: LOV!$AE$4:$AE$7
Name PROD_FEAT_10714: LOV!$F$4:$F$5
Name PROD_FEAT_10770: LOV!$AN$4:$AN$38
Name PROD_FEAT_10961: LOV!$AU$4:$AU$14
Name PROD_FEAT_10982: LOV!$Q$4:$Q$8
Name PROD_FEAT_10990_Afzuigkappen: Product_type!$A$3:$A$4
Name PROD_FEAT_10990_Fornuizen: Product_type!$B$3
Name PROD_FEAT_10990_Koelkast: Product_type!$C$3:$C$4
Name PROD_FEAT_10990_Kookplaten: Product_type!$D$3
Name PROD_FEAT_10990_Magnetron: Product_type!$E$3:$E$5
Name PROD_FEAT_10990_Oven: Product_type!$F$3
Name PROD_FEAT_10990_Vaatwassers: Product_type!$H$3
Name PROD_FEAT_10990_Was_droogcombinatie: LOV!$AJ$4
Name PROD_FEAT_10990_Wasdrogers: Product_type!$G$3:$G$5
Name PROD_FEAT_11367: LOV!$AL$4:$AL$7
Name PROD_FEAT_11779: LOV!$X$4:$X$14
Name PROD_FEAT_11968: LOV!$W$4:$W$8
Name PROD_FEAT_12120: LOV!$S$4:$S$6
Name PROD_FEAT_12194: LOV!$BI$4:$BI$7
Name PROD_FEAT_12253: LOV!$G$4:$G$13
Name PROD_FEAT_12438: LOV!$H$4:$H$9
Name PROD_FEAT_13470: LOV!$V$4:$V$9
Name PROD_FEAT_13482: LOV!$P$4:$P$5
Name PROD_FEAT_13559: LOV!$AQ$4:$AQ$8
Name PROD_FEAT_13709: LOV!$AG$4:$AG$5
Name PROD_FEAT_13800: LOV!$AM$4:$AM$6
Name PROD_FEAT_13839: LOV!$AI$4:$AI$5
Name PROD_FEAT_13960: LOV!$O$4:$O$6
Name PROD_FEAT_14330: LOV!$AZ$4:$AZ$11
Name PROD_FEAT_14384: LOV!$T$4:$T$6
Name PROD_FEAT_14396: LOV!$BC$4:$BC$6
Name PROD_FEAT_14451: LOV!$I$4:$I$8
Name PROD_FEAT_14510: LOV!$R$4:$R$5
Name PROD_FEAT_14553: LOV!$BA$4:$BA$7
Name PROD_FEAT_14554: LOV!$J$4:$J$7
Name PROD_FEAT_14594: LOV!$AY$4:$AY$8
Name PROD_FEAT_14595: LOV!$AX$4:$AX$11
Name PROD_FEAT_15742: LOV!$L$4:$L$6
Name PROD_FEAT_16207: LOV!$Y$4
Name PROD_FEAT_16497: LOV!$AW$4:$AW$12
Name PROD_FEAT_16520: LOV!$AK$4:$AK$12
Name PROD_FEAT_16617: LOV!$AC$4:$AC$11
Name PROD_FEAT_16630: LOV!$AV$4:$AV$8
Name PROD_FEAT_16743: LOV!$M$4:$M$6
Name PROD_FEAT_16744: LOV!$AB$4:$AB$13
Name PROD_FEAT_16887: LOV!$AH$4:$AH$7
Name PROD_FEAT_16914: LOV!$AA$4:$AA$7
Name PROD_FEAT_16943: LOV!$E$4:$E$25

Sheet Producent
A1: Prod. nr. | B1: Producent | C1: Prod. afkorting | D1: Prod omschrijving 2 | E1: Comm bereiks nr | F1: Phononet nr. | G1: Subsidiary | H1: Create date
A2: 2914 | B2: 12MOVE | D2: 12MOVE | G2: NL | H2: 22.04.2005
A3: 4471 | B3: 180S | D3: 180S | G3: NL | H3: 28.10.2013
A4: 4042 | B4: 1AUTO | D4: 1AUTO | G4: NL | H4: 13.12.2011
A5: 3928 | B5: 1IDEA | D5: 1IDEA | G5: NL | H5: 02.12.2010
A6: 3938 | B6: 1-LINE | D6: 1-LINE | G6: NL | H6: 01.02.2011
A7: 3348 | B7: 2GO | D7: 2GO | G7: NL | H7: 24.08.2006
A8: 5673 | B8: 2K UE | D8: 2K UE | G8: NL | H8: 11.08.2023
A9: 2421 | B9: 2L | D9: 2L | G9: NL | H9: 13.08.2003
A10: 4785 | B10: 2POWER | D10: 2POWER | G10: NL | H10: 21.01.2015
A11: 288 | B11: 3 COM | D11: 3 COM | G11: NL | H11: 11.11.1999
A12: 549 | B12: 3 DFX | D12: 3 DFX | G12: NL | H12: 18.05.2000
A13: 4949 | B13: 360 FLY | D13: 360 FLY | G13: NL | H13: 02.10.2015
... A4134: 5304 | B4134: ZYXEL | D4134: ZYXEL | G4134: NL | H4134: 17.07.2017

Sheet Processor
A1: bank nr. | B1: Active | C1: Processor | D1: Graphicscard
A2: 10046 | B2: Ja | C2: ACTIONS - 7021 - ACTIONS | D2: OTHERS
A3: 10064 | B3: Ja | C3: ACTIONS - AMT7021 - ACTIONS | D3: OTHERS
A4: 9684 | B4: Ja | C4: ACTIONS - ATM7023 - ACTIONS | D4: OTHERS
A5: 9683 | B5: Ja | C5: ACTIONS - ATM7029 - ACTIONS | D5: OTHERS
A6: 9974 | B6: Ja | C6: ACTIONS - ATM7039 - ACTIONS | D6: OTHERS
A7: 10415 | B7: Ja | C7: ACTIONS - S500 - ACTIONS | D7: OTHERS
A8: 9679 | B8: Ja | C8: ALLWINNER - A10 - ALLWINNER | D8: OTHERS
A9: 11053 | B9: Ja | C9: ALLWINNER - A100 QUAD CORE - ALLWINNER | D9: OTHERS
A10: 9668 | B10: Ja | C10: ALLWINNER - A13 - ALLWINNER | D10: OTHERS
A11: 11344 | B11: Ja | C11: ALLWINNER - A133 - ALLWINNER | D11: OTHERS
A12: 9678 | B12: Ja | C12: ALLWINNER - A20 - ALLWINNER | D12: OTHERS
A13: 9885 | B13: Ja | C13: ALLWINNER - A23 - ALLWINNER | D13: OTHERS
... A2337: 10929 | B2337: Ja | C2337: XEON W - 3245 - INTEL | D2337: OTHERS

Sheet Artikeltype
A1: Art.grp.nr. | B1: Artikelgroep | D1: Art.grp.nr. | E1: Artikelgroep
A2: 325 | B2: 2-IN-1 < 11,7" | D2: 325 | E2: 2-IN-1 < 11,7"
A3: 327 | B3: 2-IN-1 >13,3" | D3: 327 | E3: 2-IN-1 >13,3"
A4: 326 | B4: 2-IN-1 11,7" - 13,3" | D4: 326 | E4: 2-IN-1 11,7" - 13,3"
A5: 4129 | B5: AIO INK TANK PRINTERS | D5: 959 | E5: B2B AIO PC
A6: 3310 | B6: ALL-IN-ONE INKT | D6: 960 | E6: B2B CONVERTIBLES
A7: 308 | B7: ALL-IN-ONE LASER KLEUR | D7: 950 | E7: B2B NOTEBOOKS
A8: 533 | B8: ALL-IN-ONE LASER MONO | D8: 951 | E8: B2B PC
A9: 960 | B9: B2B CHROMEBOOKS | D9: 961 | E9: B2B TABLETS
A10: 6049 | B10: B2B MOTOROLA | D10: 333 | E10: CHROMEBOOKS
A11: 950 | B11: B2B NOTEBOOKS | D11: 331 | E11: CREATORS NOTEBOOKS
A12: 6050 | B12: B2B SAMSUNG | D12: 320 | E12: GAMING DESKTOP
A13: 963 | B13: B2B SMARTPHONES | D13: 342 | E13: GAMING NOTEBOOK <16,7''
... A26: 330 | B26: NOTEBOOK 12" - 14,5" | D26: 374 | E26: TABLETS WINDOWS MOBILE < 7,1"
A27: 380 | B27: NOTEBOOK 14,6" - 16.7"
A28: 545 | B28: SMART WATCHES
A29: 4131 | B29: SMART WATCHES SIM
A30: 3901 | B30: SMARTPHONES FREE (APPLE)
A31: 3900 | B31: SMARTPHONES FREE (OTHERS)
A32: 3902 | B32: SMARTPHONES FREE (SAMSUNG)
A33: 3910 | B33: SMARTPHONES PREPAID PAKKET
A34: 3905 | B34: SMARTPHONES PROVIDER GEBONDEN
A35: 361 | B35: TABLETS ANDROID <9,6"
A36: 372 | B36: TABLETS ANDROID > 9,6"
A37: 368 | B37: TABLETS IOS <9,6"
A38: 370 | B38: TABLETS IOS >9,6"
... A40: 374 | B40: TABLETS WINDOWS MOBILE < 7,1"

Sheet Grafische kaart
A1: Grafische Kaart
A2: AMD
A3: APPLE
A4: INTEL
A5: NVIDIA
A6: OTHERS

Sheet Home_page
A1: Welcome to this technical sheet for the BeNeLux region. | B1: 🔒 MACROS NOT ENABLED ?
B2: If you have already entered your email address, they are activated.
A3: The "Aanvraagformulier" sheet must be completed for Dutch products only. (More information on how to complete this sheet can be found in "Toelichting artikelaanvraagform". | B3: This technical sheet includes automated functionalities that require macros.
B4: If not, please follow these recommendations:
B5: 1️⃣ Enable macros when opening the file (click "Enable Content").
B6: 2️⃣ If macros cannot be enabled due to admin restrictions, you can still fill out the file manually.
B7: 3️⃣ However, some automatic checks and email tracking features will not be available.
B9: Please follow these guidelines:
B10: 1 - Make sure you have downloaded the latest version available from our SharePoint site. (01. Specsheet Templates)
B11: 2 - Select the suggested values for multiple-choice cells.
B12: 3 - Avoid copying and pasting from other Excel files and any unintended customizations.
B13: 4 - Respect the suggested units of measurement
B14: 5 - Columns with red headers are mandatory
B15: Thank you for your cooperation.
A17: Welkom bij dit technisch bestand voor de BeNeLux-regio. | B17: 🔒 MACRO’S NIET INGESCHAKELD?
B18: Als je je e-mailadres al hebt ingevoerd, zijn ze geactiveerd.
A19: Het Aanvraagformulier dient u alleen in te vullen voor Nederlandse producten. (Meer informatie over het invullen van dit formulier vindt u in de Toelichting artikelaanvraagformulier.) | B19: Dit technisch bestand bevat geautomatiseerde functionaliteiten die macro’s vereisen.
B20: Zo niet, volg dan deze aanbevelingen:
B21: 1️⃣ Schakel macro’s in bij het openen van het bestand (klik op “Inhoud inschakelen”).
B22: 2️⃣ Als macro’s niet kunnen worden ingeschakeld vanwege beperkingen van de IT-beheerder, kun je het bestand toch handmatig invullen.
B23: 3️⃣ Sommige automatische controles en e-mailregistratiefuncties zullen echter niet beschikbaar zijn.
B25: Welkom bij dit technisch bestand voor de BeNeLux-regio.
B26: Gelieve deze richtlijnen te volgen:
B27: 1 - Zorg ervoor dat je de meest recente versie hebt gedownload via onze SharePoint-site. (Link beschikbaar in het Aanvraagformulier in cel G2)
B28: 2 - Selecteer de voorgestelde waarden voor de meerkeuzevelden.
B29: 3 - Vermijd kopiëren en plakken vanuit andere Excel-bestanden en ongewenste aanpassingen.
B30: 4 - Respecteer de voorgestelde meeteenheden.
B31: 5 - Kolommen met rode koppen zijn verplicht
B32: Dank je voor je medewerking.
A34: Bienvenue dans cette fiche technique pour le BeNeLux | B34: 🔒 MACROS NON ACTIVÉES ?
B35: Si vous avez déjà saisi votre adresse e-mail, elles sont activées.
A36: La feuille "Aanvraagformulier" doit être remplie pour les produits Néerlandais uniquement. (Plus d'infos sur comment remplir cette feuille dans "Toelichting artikelaanvraagform". | B36: Cette fiche technique comprend des fonctionnalités automatisées nécessitant l’activation des macros.
B37: Sinon, veuillez suivre ces recommandations :
B38: 1️⃣ Activez les macros lors de l’ouverture du fichier (cliquez sur « Activer le contenu »).
B39: 2️⃣ Si les macros ne peuvent pas être activées en raison de restrictions administratives, vous pouvez tout de même remplir le fichier manuellement.
B40: 3️⃣ Cependant, certaines vérifications automatiques et fonctions de suivi des e-mails ne seront pas disponibles.
B42: Merci de suivre ces consignes :
B43: 1 - Assurez-vous d’avoir téléchargé la dernière version disponible sur notre site SharePoint. (Lien disponible dans l’onglet Aanvraagformulier en cellule G2)
B44: 2 - Sélectionnez les valeurs suggérées pour les cellules à choix multiples.
B45: 3 - Évitez de copier-coller depuis d’autres fichiers Excel et toute personnalisation non souhaitée.
...

Sheet Toelichting artikelaanvraagform
A1: Toelichting artikelaanvraagformulier
A3: Artikeldata
A4: Kolomnaam | B4: Kolom | C4: Verplicht | D4: Opmerking | AQ4: data
A5: MSH Art. nr. | B5: A | C5: - | D5: MediaMarkt NL artikelnummer
A6: EAN code | B6: B | C6: Ja | D6: Maximaal 13 cijfers
A7: Art. grp. nr. | B7: C | C7: Ja | D7: Selecteer een artikelgroep uit het dropdown menu
A8: Artikelgroep | B8: D | C8: Ja | D8: Automatisch gegenereerd veld, na het selecteren van de artikelgroep wordt in dit veld de artikelgroepnaam getoond
A9: Leverancier | B9: E | C9: Ja | D9: Vul in deze kolom de naam van de leverancier in
A10: Lev. nr. | B10: F | C10: Ja | D10: Vul in deze kolom het leveranciernummer in ( 31xxxxx )
A11: Producent | B11: G | C11: Ja | D11: Selecteer een producent (merk) uit het dropdown menu
A12: Prod. nr. | B12: H | C12: Ja | D12: Automatisch gegenereerd veld, na het selecteren van de producent wordt in dit veld het producentnummer getoond
A13: Omschrijving (type/kleur) | B13: I | C13: Ja | D13: Maximaal 35 karakters, geen merknaam in de omschrijving, geen leestekens in de omschrijving ( ; € ' " , < > : \ / ` ~ @ # $ % ^ * )
A14: Aantal karakters omschrijving | B14: J | C14: - | D14: Automatisch gegenereerd veld, in deze kolom worden de totaal aantal karakters van de omschrijving getoond
A15: Referentienr. Producent | B15: K | C15: Optioneel | D15: Referentienummer van de producent, maximaal 20 karakters
A16: Aantal karakters Ref. nr. | B16: L | C16: - | D16: Automatisch gegenereerd veld, in deze kolom worden de totaal aantal karakters van het referentienummer getoond
... A27: Release datum | B27: W | C27: Optioneel | D27: Verschijningsdatum, alleen invullen indien de verschijningsdatum in de toekomst ligt ( notatie; dd.mm.yyyy )
A29: Logistieke data
A30: Kolomnaam | B30: Kolom | C30: Verplicht | D30: Opmerking
A31: Bruto gewicht in kg | B31: X | C31: Ja | D31: Dit veld invullen in kilogram, bruto gewicht inclusief consumentenverpakking
A32: Netto gewicht in kg | B32: Y | C32: Ja | D32: Dit veld invullen in kilogram, netto gewicht exclusief consumentenverpakking
A33: Gewichtseenheid | B33: Z | C33: - | D33: Aanduiding van de gewichtseenheid ( kg )
A34: Lengte in cm | B34: AA | C34: Ja | D34: Dit veld invullen in centimeter, lengte van de consumentenverpakking
A35: Breedte in cm | B35: AB | C35: Ja | D35: Dit veld invullen in centimeter, breedte van de consumentenverpakking
A36: Hoogte in cm | B36: AC | C36: Ja | D36: Dit veld invullen in centimeter, hoogte van de consumentenverpakking
A37: Meeteenheid | B37: AD | C37: - | D37: Aanduiding van de meeteenheid ( cm )
A38: Gevaarlijke stoffen | B38: AE | C38: Ja* | D38: Material Safety Data Sheet, oftewel; veiligheidsinformatieblad. Deze documentatie verplicht meezenden indien het artikel gevaarlijke stoffen bevat

Sheet Aanvraagformulier
A2: Niet verplicht | C2: Deze velden mogen leeg gelaten worden | F2: versie
A3: Verplicht | C3: Deze velden zijn verplicht om in te vullen | F3: 45762
A4: Berekening | C4: Deze velden worden automatisch gevuld, niet aanpassen A.U.B.
A6: Artikeldata | X6: Logistieke data
A8: MSH Art. nr. | B8: EAN code | C8: Art. grp. nr. | D8: Artikelgroep | E8: Leverancier | F8: Lev. nr. | G8: Producent | H8: Prod. nr. | I8: Omschrijving (type/kleur) (max. 35 karakters) | J8: Aantal karakters omschrijving | K8: Referentienr. producent (max. 20 karakters) | L8: Aantal karakters Ref. nr. | M8: Bestelnr. leverancier (max. 20 karakters) | N8: Aantal karakters Bestelnr. | O8: VPE | P8: VPI | Q8: Adv. verkoopprijs (incl. BTW) | R8: Inkoopprijs (excl. BTW) | S8: Artikeltype | T8: Processor | U8: Proc. bank nr. | V8: Grafische kaart | W8: Release datum (dd.mm.yyyy) | X8: Bruto gewicht in kg (incl. consumentenverpakking) | Y8: Netto gewicht in kg (excl. consumentenverpakking) | Z8: Gewichtseenheid | AA8: Lengte in cm (incl. consumentenverpakking) | AB8: Breedte in cm (incl. consumentenverpakking) | AC8: Hoogte in cm (incl. consumentenverpakking) | AD8: Meeteenheid | AE8: Gevaarlijke stoffen (MSDS documenten toevoegen - verplicht bij JA)
D9: =IFERROR(INDEX(Artikelgr_data6[Artikelgroep],MATCH(Formulier[[#This Row],[Art. grp. nr.]],Artikelgr_data6[Art.grp.nr.],0))," <-- kies artikelgroep nummer") -> <-- kies artikelgroep nummer | H9: =IFERROR(INDEX(Producent_data[Prod. nr.],MATCH(Formulier[[#This Row],[Producent]],Producent_data[Producent],0)),"<-- kies producent") -> <-- kies producent | J9: =LEN(Formulier[[#This Row],[Omschrijving (type/kleur) (max. 35 karakters)]]) -> 0 | L9: =LEN(Formulier[[#This Row],[Referentienr. producent (max. 20 karakters) ]]) -> 0 | N9: =LEN(Formulier[[#This Row],[Bestelnr. leverancier (max. 20 karakters) ]]) -> 0 | S9: =IF(COUNTIF(Artikeltype_data[Art.grp.nr.],Formulier[[#This Row],[Art. grp. nr.]])=1,23,"") | U9: =IFERROR(INDEX(Processor_data[bank nr.],MATCH(Formulier[[#This Row],[Processor]],Processor_data[Processor],0)),"") | Z9: ="kg" -> kg | AD9: ="cm" -> cm
B10: 8806096626924 | C10: 711 | D10: =IFERROR(INDEX(Artikelgr_data6[Artikelgroep],MATCH(Formulier[[#This Row],[Art. grp. nr.]],Artikelgr_data6[Art.grp.nr.],0))," <-- kies artikelgroep nummer") -> KOEL-VRIESCOMBI NOFROST | E10: LG | F10: 1 | G10: LG | H10: =IFERROR(INDEX(Producent_data[Prod. nr.],MATCH(Formulier[[#This Row],[Producent]],Producent_data[Producent],0)),"<-- kies producent") -> 616 | I10: Zwart | J10: =LEN(Formulier[[#This Row],[Omschrijving (type/kleur) (max. 35 karakters)]]) -> 5 | L10: =LEN(Formulier[[#This Row],[Referentienr. producent (max. 20 karakters) ]]) -> 0 | N10: =LEN(Formulier[[#This Row],[Bestelnr. leverancier (max. 20 karakters) ]]) -> 0 | Q10: 699 | R10: 495 | S10: =IF(COUNTIF(Artikeltype_data[Art.grp.nr.],Formulier[[#This Row],[Art. grp. nr.]])=1,23,"") | U10: =IFERROR(INDEX(Processor_data[bank nr.],MATCH(Formulier[[#This Row],[Processor]],Processor_data[Processor],0)),"") | X10: 80 | Y10: 72 | Z10: ="kg" -> kg | AA10: 2104 | AB10: 645 | AC10: 741 | AD10: ="cm" -> cm | AE10: Nee
D11: =IFERROR(INDEX(Artikelgr_data6[Artikelgroep],MATCH(Formulier[[#This Row],[Art. grp. nr.]],Artikelgr_data6[Art.grp.nr.],0))," <-- kies artikelgroep nummer") -> <-- kies artikelgroep nummer | H11: =IFERROR(INDEX(Producent_data[Prod. nr.],MATCH(Formulier[[#This Row],[Producent]],Producent_data[Producent],0)),"<-- kies producent") -> <-- kies producent | J11: =LEN(Formulier[[#This Row],[Omschrijving (type/kleur) (max. 35 karakters)]]) -> 0 | L11: =LEN(Formulier[[#This Row],[Referentienr. producent (max. 20 karakters) ]]) -> 0 | N11: =LEN(Formulier[[#This Row],[Bestelnr. leverancier (max. 20 karakters) ]]) -> 0 | S11: =IF(COUNTIF(Artikeltype_data[Art.grp.nr.],Formulier[[#This Row],[Art. grp. nr.]])=1,23,"") | U11: =IFERROR(INDEX(Processor_data[bank nr.],MATCH(Formulier[[#This Row],[Processor]],Processor_data[Processor],0)),"") | Z11: ="kg" -> kg | AD11: ="cm" -> cm

Sheet Artikelgroep
A1: Art.grp.nr. | B1: Artikelgroep | C1: Afd.nr. | D1: Afdeling | E1: Bereik nr. | F1: Bereik | G1: Oude art.grp.nr. | H1: Oude artikelgroep | I1: Kategorie-Bez. | J1: Int.art.grp.nr. | K1: Internet artikelgroep | L1: Hfd.art.grp.nr. | M1: Hoofd artikelgroep
A2: 122 | B2: LCD TV T/M 27" | C2: 3 | D2: TELEVISIE | E2: 1 | F2: BRUINGOED | I2: MISCELLANEOUS | J2: 143 | K2: LCD-TV | L2: 3 | M2: LCD-TV
A3: 124 | B3: LCD TV 28-32" | C3: 3 | D3: TELEVISIE | E3: 1 | F3: BRUINGOED | I3: MISCELLANEOUS | J3: 143 | K3: LCD-TV | L3: 3 | M3: LCD-TV
A4: 125 | B4: LCD TV 33-43" | C4: 3 | D4: TELEVISIE | E4: 1 | F4: BRUINGOED | I4: MISCELLANEOUS | J4: 143 | K4: LCD-TV | L4: 3 | M4: LCD-TV
A5: 129 | B5: LCD TV COMBI | C5: 3 | D5: TELEVISIE | E5: 1 | F5: BRUINGOED | I5: MISCELLANEOUS | J5: 143 | K5: LCD-TV | L5: 3 | M5: LCD-TV
A6: 120 | B6: UHD-LCD TV T/M 43" | C6: 3 | D6: TELEVISIE | E6: 1 | F6: BRUINGOED | I6: MISCELLANEOUS | J6: 524 | K6: ACCESSOIRE | L6: 5 | M6: UHD-LCD TV
A7: 123 | B7: UHD-LCD TV 44-50" | C7: 3 | D7: TELEVISIE | E7: 1 | F7: BRUINGOED | I7: MISCELLANEOUS | J7: 143 | K7: LCD-TV | L7: 5 | M7: UHD-LCD TV
A8: 133 | B8: UHD-LCD TV 51-59" | C8: 3 | D8: TELEVISIE | E8: 1 | F8: BRUINGOED | I8: MISCELLANEOUS | J8: 143 | K8: LCD-TV | L8: 5 | M8: UHD-LCD TV
A9: 135 | B9: UHD-LCD TV 75" TO 79" | C9: 3 | D9: TELEVISIE | E9: 1 | F9: BRUINGOED | I9: MISCELLANEOUS | J9: 142 | K9: CRT TV | L9: 5 | M9: UHD-LCD TV
A10: 136 | B10: UHD-LCD TV 60-74" | C10: 3 | D10: TELEVISIE | E10: 1 | F10: BRUINGOED | I10: MISCELLANEOUS | J10: 524 | K10: ACCESSOIRE | L10: 5 | M10: UHD-LCD TV
A11: 4276 | B11: UHD-LCD TV BIGGER THAN 80" | C11: 3 | D11: TELEVISIE | E11: 1 | F11: BRUINGOED | I11: MISCELLANEOUS | J11: 663 | K11: OLED TV | L11: 5 | M11: UHD-LCD TV
A12: 195 | B12: TV BEAMER | C12: 3 | D12: TELEVISIE | E12: 1 | F12: BRUINGOED | I12: MISCELLANEOUS | J12: 145 | K12: TV BEAMER | L12: 7 | M12: TV BEAMER
A13: 131 | B13: OLED TV 51" - 59" | C13: 3 | D13: TELEVISIE | E13: 1 | F13: BRUINGOED | I13: MISCELLANEOUS | J13: 663 | K13: OLED TV | L13: 11 | M13: OLED
... A678: 4259 | B678: POWER STATION ACCESSORIES | C678: 47 | D678: E-MOBILITY | E678: 7 | F678: ALGEMEEN | I678: MISCELLANEOUS | J678: 522 | K678: STROOM | L678: 437 | M678: ENERGY MOBILITY
A679: 67 | B679: SERVICE | C679: 48 | D679: OTHERS | E679: 7 | F679: ALGEMEEN | I679: MISCELLANEOUS | L679: 181 | M679: OTHERS
A680: 201 | B680: FACTUURCONTROLE SPECIALE GEVALLEN | C680: 48 | D680: OTHERS | E680: 7 | F680: ALGEMEEN | I680: MISCELLANEOUS | L680: 181 | M680: OTHERS
A681: 200 | B681: FACTUURCONTROLE | C681: 92 | D681: INNOVATIONS | E681: 7 | F681: ALGEMEEN | I681: MISCELLANEOUS | L681: 194 | M681: WKZ
A682: 10 | B682: FOOD | C682: 92 | D682: INNOVATIONS | E682: 7 | F682: ALGEMEEN | I682: MISCELLANEOUS | J682: 87 | K682: NINTENDO WII | L682: 200 | M682: FOOD & BEVERAGES
A683: 4138 | B683: ICE CREAM | C683: 92 | D683: INNOVATIONS | E683: 7 | F683: ALGEMEEN | I683: MISCELLANEOUS | J683: 524 | K683: ACCESSOIRE | L683: 200 | M683: FOOD & BEVERAGES
A684: 4260 | B684: BEVERAGES | C684: 92 | D684: INNOVATIONS | E684: 7 | F684: ALGEMEEN | I684: MISCELLANEOUS | J684: 372 | K684: KOFFIE | L684: 200 | M684: FOOD & BEVERAGES
A685: 905 | B685: CLOTHING, KIDS PRODUCTS | C685: 92 | D685: INNOVATIONS | E685: 7 | F685: ALGEMEEN | I685: MISCELLANEOUS | J685: 87 | K685: NINTENDO WII | L685: 250 | M685: ADDITIONAL ASSORTMENT
A686: 910 | B686: OTHER ADD. ASSORTMENT | C686: 92 | D686: INNOVATIONS | E686: 7 | F686: ALGEMEEN | I686: MISCELLANEOUS | J686: 87 | K686: NINTENDO WII | L686: 250 | M686: ADDITIONAL ASSORTMENT
A687: 925 | B687: SEASONAL PRODUCTS | C687: 92 | D687: INNOVATIONS | E687: 7 | F687: ALGEMEEN | I687: MISCELLANEOUS | J687: 87 | K687: NINTENDO WII | L687: 250 | M687: ADDITIONAL ASSORTMENT
A688: 912 | B688: HAND TOOLS (NON ELECTRIC) | C688: 92 | D688: INNOVATIONS | E688: 7 | F688: ALGEMEEN | I688: MISCELLANEOUS | J688: 365 | K688: KLEIN HUISHOUDELIJK OVERIG | L688: 252 | M688: TOOLS
A689: 916 | B689: OTHER TOOLS | C689: 92 | D689: INNOVATIONS | E689: 7 | F689: ALGEMEEN | I689: MISCELLANEOUS | J689: 365 | K689: KLEIN HUISHOUDELIJK OVERIG | L689: 252 | M689: TOOLS
A690: 924 | B690: TOOLS ACCESSORIES | C690: 92 | D690: INNOVATIONS | E690: 7 | F690: ALGEMEEN | I690: MISCELLANEOUS | J690: 365 | K690: KLEIN HUISHOUDELIJK OVERIG | L690: 252 | M690: TOOLS
A691: 872 | B691: CRM / ITALIEN BUONI FIDELITY | C691: 92 | D691: INNOVATIONS | E691: 7 | F691: ALGEMEEN | I691: MISCELLANEOUS | J691: 87 | K691: NINTENDO WII | L691: 321 | M691: CRM / ITALY FIDELITY VOUCHERS
A692: 875 | B692: ITALY MATERIALE DI CONSUMO | C692: 92 | D692: INNOVATIONS | E692: 7 | F692: ALGEMEEN | I692: MISCELLANEOUS | J692: 87 | K692: NINTENDO WII | L692: 324 | M692: TASSEN
A693: 37 | B693: DEMO GOEDEREN INNOVATIONS | C693: 92 | D693: INNOVATIONS | E693: 7 | F693: ALGEMEEN | I693: MISCELLANEOUS | J693: 87 | K693: NINTENDO WII | L693: 383 | M693: DEMO GOEDEREN INNOVATIONS
... A701: 8398 | B701: TICKETS | C701: 25 | D701: SOFTWARE (UE) | E701: 8 | F701: CONSOLE + SOFTWARE (UE) | I701: MISCELLANEOUS | J701: 623 | K701: BOEKEN | L701: 168 | M701: TICKETS
A702: 4297 | B702: NINTENDO SWITCH 2 (UE) | C702: 25 | D702: SOFTWARE (UE) | E702: 8 | F702: CONSOLE + SOFTWARE (UE) | G702: 4297 | H702: NINTENDO SWITCH 2 | I702: MISCELLANEOUS | J702: 524 | K702: ACCESSOIRE | L702: 170 | M702: CONSOLE SOFTWARE (UE)
A703: 8121 | B703: SONY PS 4 (UE) | C703: 25 | D703: SOFTWARE (UE) | E703: 8 | F703: CONSOLE + SOFTWARE (UE) | G703: 8121 | H703: SONY PLAYSTATION 4 (UE) | I703: MISCELLANEOUS | J703: 680 | K703: SONY PLAYSTATION 4 | L703: 170 | M703: CONSOLE SOFTWARE (UE)
A704: 8122 | B704: MICROSOFT XBOX ONE (UE) | C704: 25 | D704: SOFTWARE (UE) | E704: 8 | F704: CONSOLE + SOFTWARE (UE) | G704: 8122 | H704: MICROSOFT XBOX 720 (UE) | I704: MISCELLANEOUS | J704: 86 | K704: MICROSOFT XBOX ONE | L704: 170 | M704: CONSOLE SOFTWARE (UE)
A705: 8123 | B705: XXX NINTENDO SWITCH | C705: 25 | D705: SOFTWARE (UE) | E705: 8 | F705: CONSOLE + SOFTWARE (UE) | G705: 8123 | H705: NINTENDO SWITCH | I705: MISCELLANEOUS | J705: 87 | K705: NINTENDO WII | L705: 170 | M705: CONSOLE SOFTWARE (UE)
A706: 8124 | B706: SONY PLAYSTATION 5 (UE) | C706: 25 | D706: SOFTWARE (UE) | E706: 8 | F706: CONSOLE + SOFTWARE (UE) | I706: MISCELLANEOUS | J706: 198 | K706: SONY PLAYSTATION | L706: 170 | M706: CONSOLE SOFTWARE (UE)
A707: 8125 | B707: XBOX SERIES (UE) | C707: 25 | D707: SOFTWARE (UE) | E707: 8 | F707: CONSOLE + SOFTWARE (UE) | I707: MISCELLANEOUS | J707: 203 | K707: MS XBOX | L707: 170 | M707: CONSOLE SOFTWARE (UE)
A708: 8199 | B708: OVERIG VIDEO GAMES (UE) | C708: 25 | D708: SOFTWARE (UE) | E708: 8 | F708: CONSOLE + SOFTWARE (UE) | I708: MISCELLANEOUS | J708: 96 | K708: SPELCONSOLE | L708: 170 | M708: CONSOLE SOFTWARE (UE)
A709: 8320 | B709: PC MULTIMEDIA (UE) | C709: 25 | D709: SOFTWARE (UE) | E709: 8 | F709: CONSOLE + SOFTWARE (UE) | I709: MISCELLANEOUS | J709: 7 | K709: PC DESKTOP | L709: 173 | M709: PC SOFTWARE (UE)
A710: 8370 | B710: ZZ (NIET GEBRUIKEN) GAMING & SOFTWARE CA | C710: 25 | D710: SOFTWARE (UE) | E710: 8 | F710: CONSOLE + SOFTWARE (UE) | G710: 8370 | H710: GAME CARDS PREPAID (UE) | I710: MISCELLANEOUS | J710: 205 | K710: DIVERSE | L710: 175 | M710: GAMING&SOFTW.CARDS PREPAID (UE)
A711: 1350 | B711: APPLE CARDS | C711: 51 | D711: ENTERTAINMENT CARDS | E711: 8 | F711: CONSOLE + SOFTWARE (UE) | I711: MISCELLANEOUS | J711: 623 | K711: BOEKEN | L711: 210 | M711: MUSIC CARDS
...

Sheet Translate
A1: NL | B1: FR
A2: Besteklade | B2: Tiroir à couverts
A3: Bestekmand | B3: Panier à couverts
A4: Bestekmand & besteklade | B4: Panier et tiroir à couverts
A5: Katalytisch | B5: Catalytique
A6: Enkel katalytisch | B6: Partiellement catalytique
A7: Gemakkelijk te reinigen emaille | B7: Émail facile à nettoyer
A8: Hydrolytisch | B8: Hydrolitique
A9: Pyrolytisch + Hydrolytisch | B9: Pyrolytique + Hydrolytique
A10: Pyrolytisch | B10: Pyrolitique
A11: Eiland | B11: Ilôt
A12: Extern | B12: Externe
... A525: Zwitserland | B525: Suisse

Sheet Product_type
A1: PROD_FEAT_10990_Afzuigkappen | B1: PROD_FEAT_10990_Fornuizen | C1: PROD_FEAT_10990_Koelkast | D1: PROD_FEAT_10990_Kookplaten | E1: PROD_FEAT_10990_Magnetron | F1: PROD_FEAT_10990_Oven | G1: PROD_FEAT_10990_Wasdrogers | H1: PROD_FEAT_10990_Vaatwassers
A2: Afzuigkappen | B2: Fornuizen | C2: Koelkast | D2: Kookpaten | E2: Magnetron | F2: Oven | G2: Wasdrogers | H2: Vaatwassers
A3: Afzuigsysteem van bovenaf | B3: Fornuis | C3: Koelkast | D3: Kookplaat | E3: Combimagnetron | F3: Oven | G3: Afvoerdroger | H3: Vaatwasser
A4: Afzuigsysteem in aanrechtblad | C4: Koel-vriescombinatie | E4: Magnetron | G4: Condensdroger
E5: Magnetron met grill | G5: Warmtepompdroger

Sheet LOV
C1: =VLOOKUP(C2,PROD_FEAT,4,FALSE) -> List Of Values | D1: =VLOOKUP(D2,PROD_FEAT,4,FALSE) -> List Of Values | E1: =VLOOKUP(E2,PROD_FEAT,4,FALSE) -> List Of Values | F1: =VLOOKUP(F2,PROD_FEAT,4,FALSE) -> List Of Values | G1: =VLOOKUP(G2,PROD_FEAT,4,FALSE) -> List Of Values | H1: =VLOOKUP(H2,PROD_FEAT,4,FALSE) -> List Of Values | I1: =VLOOKUP(I2,PROD_FEAT,4,FALSE) -> List Of Values | J1: =VLOOKUP(J2,PROD_FEAT,4,FALSE) -> List Of Values | ... BR1: =VLOOKUP(BR2,PROD_FEAT,4,FALSE) -> List Of Values
A2: Boolean | B2: Numbers | C2: PROD_FEAT_00003 | D2: PROD_FEAT_16962 | E2: PROD_FEAT_16943 | F2: PROD_FEAT_10714 | G2: PROD_FEAT_12253 | H2: PROD_FEAT_12438 | I2: PROD_FEAT_14451 | J2: PROD_FEAT_14554 | K2: PROD_FEAT_91100 | L2: PROD_FEAT_15742 | M2: PROD_FEAT_16743 | N2: PROD_FEAT_10401_koelkast | O2: PROD_FEAT_13960 | P2: PROD_FEAT_13482 | Q2: PROD_FEAT_10982 | R2: PROD_FEAT_14510 | S2: PROD_FEAT_12120 | T2: PROD_FEAT_14384 | U2: PROD_FEAT_91160 | V2: PROD_FEAT_13470 | W2: PROD_FEAT_11968 | X2: PROD_FEAT_11779 | Y2: PROD_FEAT_16207 | Z2: PROD_FEAT_10401_vriezers | AA2: PROD_FEAT_16914 | AB2: PROD_FEAT_16744 | AC2: PROD_FEAT_16617 | AD2: PROD_FEAT_10401_vaatwasser | AE2: PROD_FEAT_10519 | AF2: PROD_FEAT_91250 | AG2: PROD_FEAT_13709 | AH2: PROD_FEAT_16887 | AI2: PROD_FEAT_13839 | AJ2: PROD_FEAT_10990_Was-droogcombinatie | AK2: PROD_FEAT_16520 | AL2: PROD_FEAT_11367 | AM2: PROD_FEAT_13800 | AN2: PROD_FEAT_10770 | AO2: PROD_FEAT_18135 | AP2: PROD_FEAT_10068 | AQ2: PROD_FEAT_13559 | AR2: PROD_FEAT_91013 | AS2: PROD_FEAT_91014 | AT2: PROD_FEAT_91012 | AU2: PROD_FEAT_10961 | AV2: PROD_FEAT_16630 | AW2: PROD_FEAT_16497 | AX2: PROD_FEAT_14595 | AY2: PROD_FEAT_14594 | AZ2: PROD_FEAT_14330 | BA2: PROD_FEAT_14553 | BB2: PROD_FEAT_91158 | BC2: PROD_FEAT_14396 | BD2: PROD_FEAT_91141 | BE2: PROD_FEAT_91140 | BF2: PROD_FEAT_91133 | BG2: PROD_FEAT_91127 | BH2: PROD_FEAT_90095 | BI2: PROD_FEAT_12194 | BJ2: ATTR_PROD_MANU_OverrideContactDetails | BK2: ATTR_PROD_MANU_EuEstablished | BL2: ATTR_PROD_MANU_AddressCountry | BM2: PROD_FEAT_91335 | BN2: PROD_FEAT_91336 | BO2: PROD_FEAT_91337 | BP2: PROD_FEAT_91338 | BQ2: PROD_FEAT_91339 | BR2: PROD_FEAT_91341
C3: =VLOOKUP(C2,PROD_FEAT,2,FALSE) -> Kleur (basis) | D3: =VLOOKUP(D2,PROD_FEAT,2,FALSE) -> Fabrikant technologie | E3: =VLOOKUP(E2,PROD_FEAT,2,FALSE) -> AI-functies | F3: =VLOOKUP(F2,PROD_FEAT,2,FALSE) -> Installatietype | G3: =VLOOKUP(G2,PROD_FEAT,2,FALSE) -> Deurstopper | H3: =VLOOKUP(H2,PROD_FEAT,2,FALSE) -> Signaal temperatuurwijziging | I3: =VLOOKUP(I2,PROD_FEAT,2,FALSE) -> Verstelbare poten | J3: =VLOOKUP(J2,PROD_FEAT,2,FALSE) -> Temperatuurweergave koelvak | ... BR3: =VLOOKUP(BR2,PROD_FEAT,2,FALSE) -> Condensatie-efficiëntieklasse (EU 2017/1369)
A4: Ja | B4: 0 | C4: Beige | D4: Miele AutoDos met PowerDisk | E4: Automatische contentcreatie | F4: Inbouw | G4: Aan te passen door technicus | H4: Geen signaal | I4: Ja | J4: Analoog | K4: - | L4: Ja | M4: Ja | N4: Amerikaanse koelkast | O4: Absorptie | P4: Boven | Q4: 0 | R4: Deur-op-deur | S4: Elektronisch | T4: Display | U4: Gematigd | V4: Inbouw | W4: Hydrolytisch | X4: Hetelucht | Y4: 2 jaar | Z4: Vrieskast | AA4: AI Ready | AB4: 1 jaar | AC4: 2020 | AD4: Half geïntegreerd | AE4: Besteklade | AF4: 1 | AG4: Conventioneel | AH4: Scherm | AI4: Bovenlader | AJ4: Was-droogcombinatie | AK4: Dampkap | AL4: Elektrisch | AM4: 1-fase (normale stekker) | AN4: - | AO4: A tot G | AP4: Luchtafvoer | AQ4: Fluorescerend | AR4: - | AS4: - | AT4: - | AU4: 1 | AV4: Gas | AW4: Floatglas | AX4: Één hand | AY4: Elektronisch | AZ4: Aluminium | BA4: Analoog | BB4: - | BC4: Glas | BD4: - | BE4: - | BF4: - | BG4: - | BH4: - | BI4: Analoog | BJ4: false | BK4: false | BL4: Afghanistan | BM4: - | BN4: - | BO4: - | BP4: 1 ATM | BQ4: - | BR4: -
A5: Nee | B5: 1 | C5: Blauw | D5: Miele Automatisch Comfort-oprolsnoersysteem | E5: Automatische tekstsuggestie | F5: Vrijstaand | G5: Beneden | H5: Hoorbaar | I5: Ja - enkel achteraan | J5: Digitaal | K5: A | L5: Ja, speciaal accessoire vereist, niet bij de levering inbegrepen | M5: Nee | N5: Koelkast met vriesvak | O5: Compressor | P5: Onder | Q5: 1 | R5: Sleepdeur | S5: Mechanisch | T5: Tiptoetsen | U5: Subtropisch | V5: Ingebouwd inclusief het frame | W5: Ja | X5: Boven- en onderwarmte | Z5: Vrieskist | AA5: Basic AI | AB5: 2 jaar | AC5: 2021 | AD5: Hoog (86,5 cm of hoger) | AE5: Bestekmand | AF5: 2 | AG5: Zeoliet | AH5: Projectie op de vloer (gekleurd lampje) | AI5: Voorlader | AK5: Eilanddampkap | AL5: Gas | AM5: 2-fasen (Perilex) | AN5: A | AO5: A+ tot F | AP5: Luchtafvoer/Recirculatie | AQ5: Halogeen | AR5: A | AS5: A | AT5: A | AU5: 2 | AV5: Gas / Houtskool | AW5: Geëmailleerd | AX5: Elektrisch | AY5: Ja | AZ5: Geen | BA5: Digitaal | BB5: A | BC5: Kunststof | BD5: A | BE5: A | BF5: A | BG5: A | BH5: A | BI5: Digitaal | BJ5: true | BK5: true | BL5: Åland Eilanden | BM5: A | BN5: A | BO5: ≥ 500 | BP5: 3 ATM | BQ5: A | BR5: A
B6: 2 | C6: Bruin | D6: Miele Automatisch koken menu | E6: Batterijbeheer | G6: Boven | H6: Ja | I6: Ja - enkel voorin | J6: Ja | K6: B | L6: Nee | M6: Onbekend | N6: Koelkast zonder vriesvak | O6: Inverter | Q6: 2 | S6: Mechanisch + Elektronisch | T6: Tiptoetsen + display | U6: Tropisch | V6: Vrijstaand | W6: Nee | X6: Grill | Z6: Tafelmodel vriezer | AA6: Full AI | AB6: 3 jaar | AC6: 2022 | AD6: Klein (45 cm hoog) | AE6: Bestekmand & besteklade | AF6: 3 | AH6: Projectie op de vloer (tijdsindicatie) | AK6: Hoofdvrije kap | AL6: Inductie | AM6: 3-fasen (Perilex) | AN6: A -60% | AO6: A++ tot E | AP6: Ombouwbaar naar evacuatie/convectie (ombouwapparatuur meegeleverd) | AQ6: Lampen | AR6: A+ | AS6: A+ | AT6: A+ | AU6: 3 | AV6: Inductie | AW6: Gietijzer | AX6: Inductie | AY6: Mechanisch | AZ6: Glas | BA6: Ja | BB6: B | BC6: Plexiglas | BD6: B | BE6: B | BF6: B | BG6: B | BH6: A -60% | BI6: Ja | BL6: Albanië | BM6: B | BN6: B | BO6: ≥ 600 | BP6: 5 ATM | BQ6: B | BR6: B
B7: 3 | C7: Geel | D7: Miele Besteklade 3D-MultiFlex | E7: Biometrisch | G7: Links, instelbaar | H7: Nee | I7: Ja - voor en achter | J7: Nee | K7: C | N7: Koel-vriescombinatie | Q7: 3 | U7: Uitgebreid gematigd | V7: Vrijstaand met mogelijkheid tot inbouw met onderstel | W7: Pyrolytisch + Hydrolytisch | X7: Pizzastand | Z7: Mini-vriezer | AA7: Geen | AB7: 4 jaar | AC7: 2023 | AD7: Onderbouw | AE7: Nee | AF7: 4 | AH7: Zijprojectie, verlicht punt | AK7: Muur bevestigde kap | AL7: Keramisch | AN7: A -50% | AO7: A+++ tot D | AP7: Ombouwbaar naar evacuatie/convectie (ombouwapparatuur niet meegeleverd) | AQ7: Ledverlichting | AR7: A++ | AS7: A++ | AT7: A++ | AU7: 4 | AV7: Netvoeding | AW7: Keramiek | AX7: Ja | AY7: Nee | AZ7: Hittebestendige kunststof | BA7: Nee | BB7: C | BD7: C | BE7: C | BF7: C | BG7: C | BH7: A -50% | BI7: Nee | BL7: Algerije | BM7: C | BN7: C | BO7: ≥ 700 | BP7: 10 ATM | BQ7: C | BR7: C
B8: 4 | C8: Goud | D8: Miele CleanCover-afzuigunit | E8: Gebarenherkenning | G8: Links | H8: Zichtbaar | I8: Nee | K8: D | N8: Mini-koelkast | Q8: 4 | V8: Vrijstaand met mogelijk onderstel | W8: Pyrolytisch | X8: Crispfunctie | AB8: 5 jaar | AC8: 2024 | AD8: Smal (45 cm breed) | AF8: 5 | AK8: Plafond bevestigde kap | AN8: A -40% | AP8: Convectie | AQ8: Spaarlampen | AR8: A+++ | AS8: A+++ | AT8: A+++ | AU8: 5 | AV8: Gas / Netvoeding | AW8: Metaal | AX8: Mechanisch | AY8: Niet instelbaar | AZ8: Hout | BB8: D | BD8: D | BE8: D | BF8: D | BG8: D | BH8: A -40% | BL8: Amerikaans-Samoa | BM8: D | BN8: D | BO8: ≥ 800 | BP8: IP X1 | BQ8: D | BR8: D
B9: 5 | C9: Grijs | D9: Miele Click2open | E9: Geen | G9: Links en rechts | H9: Zichtbaar/Hoorbaar | K9: E | N9: Tafelmodel koelkast met vriesvak | V9: Vrijstaand met ingebouwde optie | X9: Hotblast | AB9: 6 jaar | AC9: 2025 | AD9: Standaard (60 cm breed) | AF9: 6 | AK9: Standaard dampkap | AN9: A -30% | AR9: B | AS9: B | AT9: B | AU9: 6 | AW9: Roestvrij staal | AX9: Nee | AZ9: Plaatmetaal | BB9: E | BD9: E | BE9: E | BF9: E | BG9: E | BH9: A -30% | BL9: Amerikaanse Maagdeneilanden | BM9: E | BN9: E | BO9: ≥ 900 | BP9: IP X2
B10: 6 | C10: Groen | D10: Miele CoffeeSelect | E10: Geluidsverwerking | G10: Niet van toepassing | K10: F | N10: Tafelmodel koelkast zonder vriesvak | X10: Bovenwarmte | AB10: 7 jaar | AC10: 2026 | AD10: Volledig geïntegreerd | AF10: 7 | AK10: Tafeldampkap | AN10: A -20% | AR10: C | AS10: C | AT10: C | AU10: 7 | AW10: Schott Ceran® | AX10: Niet van toepassing | AZ10: Plastic | BB10: F | BD10: F | BE10: F | BF10: F | BG10: F | BH10: A -20% | BL10: Amerikaanse ondergeschikte afgelegen eilanden | BO10: ≥ 1000 | BP10: IP X4
B11: 7 | C11: Meerkleurig | D11: Miele ComfortClean | E11: Gezondheids- en welzijnstoezicht | G11: Rechts | K11: G | X11: Onderwarmte | AB11: 8 jaar | AC11: 2027 | AF11: 8 | AK11: Uitschuifkap | AN11: A -10% | AR11: D | AS11: D | AT11: D | AU11: 8 | AW11: Staal | AX11: Twee handen | AZ11: Roestvrij staal | BB11: G | BD11: G | BE11: G | BF11: G | BG11: G | BH11: A -10% | BL11: Andorra | BO11: ≥ 1100 | BP11: IP X5
B12: 8 | C12: Niet beschikbaar | D12: Miele Con@ctivity 3.0 | E12: Grafische, video- en beeldverbetering | G12: Rechts, instelbaar | X12: Magnetron | AB12: 9 jaar | AF12: 9 | AK12: Zuig module | AN12: A+ | AR12: E | AS12: E | AT12: E | AU12: 9 | AW12: Vitrokeramiek | BH12: A+ | BL12: Angola | BO12: ≥ 1200 | BP12: IP20
B13: 9 | C13: Oranje | D13: Miele CupSensor | E13: HDR (High Dynamic Range)-verbetering | G13: Verwisselbaar | X13: Stoom | AB13: 10 jaar | AF13: 10 | AN13: A+ -60% | AR13: F | AS13: F | AT13: F | AU13: 10 | BH13: A+ -60% | BL13: Anguilla | BO13: ≥ 1300 | BP13: IP21
B14: 10 | C14: Paars | D14: Miele DryCare 40 | E14: Interactieve sfeerverlichting | X14: of combinatie | AF14: 11 | AN14: A+ -50% | AR14: G | AS14: G | AT14: G | AU14: Traploos regelbaar | BH14: A+ -50% | BL14: Antarctica | BO14: ≥ 1400 | BP14: IP22
C15: Rood | D15: Miele DualSteam | E15: Koelsysteembeheer | AF15: 12 | AN15: A+ -40% | BH15: A+ -40% | BL15: Antigua en Barbuda | BO15: ≥ 1500 | BP15: IP23
C16: Roze | D16: Miele DynaCool | E16: Leervermogen | AF16: 13 | AN16: A+ -30% | BH16: A+ -30% | BL16: Arabische Republiek Syrië | BO16: ≥ 1600 | BP16: IP24
C17: Transparant | D17: Miele DynamicDrive-zwenkwielen | E17: Prestatieoptimalisatie | AF17: 14 | AN17: A+ -20% | BH17: A+ -20% | BL17: Argentinië | BO17: ≥ 1700 | BP17: IP25
C18: Turquoise | D18: Miele EcoSpeed | E18: Processorversnelling | AF18: 15 | AN18: A+ -10% | BH18: A+ -10% | BL18: Armenië | BO18: ≥ 1800 | BP18: IP26
C19: Wit | D19: Miele FragranceDos | E19: Realtime vertaling | AF19: 16 | AN19: A++ | BH19: A++ | BL19: Aruba | BO19: ≥ 2000 | BP19: IP27
C20: Zilver | D20: Miele FragranceDos² | E20: Schaalvergroting | AF20: 17 | AN20: A++ -60% | BH20: A++ -60% | BL20: Australië | BP20: IP28
C21: Zwart | D21: Miele OneTouch / OneTouch for Two | E21: Spraakherkenning | AF21: 18 | AN21: A++ -50% | BH21: A++ -50% | BL21: Azerbeidzjan | BP21: IP29
D22: Miele Perfect droogresultaat/ PerfectDry | E22: Taal leren (NLP) | AF22: 19 | AN22: A++ -40% | BH22: A++ -40% | BL22: Bahama's | BP22: IP30
D23: Miele PerfectClean | E23: Toegevoegde realiteit (AR) | AF23: 20 | AN23: A++ -30% | BH23: A++ -30% | BL23: Bahrein | BP23: IP31
D24: Miele PerfectFresh | E24: Verbetering van de camera | AF24: 21 | AN24: A++ -20% | BH24: A++ -20% | BL24: Bangladesh | BP24: IP32
D25: Miele Popcorn-functie | E25: Virtuele assistent | AF25: 22 | AN25: A++ -10% | BH25: A++ -10% | BL25: Barbados | BP25: IP33
D26: Miele QuickPowerWash | AF26: 23 | AN26: A+++ | BH26: A+++ | BL26: België | BP26: IP34
D27: Miele Silence-pakket | AF27: 24 | AN27: A+++ -60% | BH27: A+++ -60% | BL27: Belize | BP27: IP35
D28: Miele Stop & Go | AF28: 25 | AN28: A+++ -50% | BH28: A+++ -50% | BL28: Benin | BP28: IP36
D29: Miele SuperFrost | AN29: A+++ -40% | BH29: A+++ -40% | BL29: Bermuda | BP29: IP37
D30: Miele TwinBooster | AN30: A+++ -30% | BH30: A+++ -30% | BL30: Bhutan | BP30: IP38
D31: Miele Twist2Open | AN31: A+++ -20% | BH31: A+++ -20% | BL31: Bolivia | BP31: IP39
D32: Miele VarioRoom | AN32: A+++ -10% | BH32: A+++ -10% | BL32: Bonaire | BP32: IP40
D33: Miele Vortex-technologie | AN33: B | BH33: B | BL33: Bosnië en Herzegovina | BP33: IP41
D34: Miele XXL Box | AN34: C | BH34: C | BL34: Botswana | BP34: IP42
D35: Miele@Home | AN35: D | BH35: D | BL35: Bouvet Eiland | BP35: IP43
AN36: E | BH36: E | BL36: Brazilië | BP36: IP44
AN37: F | BH37: F | BL37: Brits gebied in de Indische Oceaan | BP37: IP45
AN38: G | BH38: G | BL38: Brunei Darussalam | BP38: IP46
BL39: Bulgarije | BP39: IP47
BL40: Burkina Faso | BP40: IP48
...

Sheet PROD_FEAT
A1: FEATURES_ID | B1: NL_NL+NL_BE | C1: FR | D1: FORMAT
A2: ATTR_PROD_CONFIDENTIAL_UNTIL | B2: Confidentieel tot | C2: Confidentiel jusqu'au | D2: ISO Date and Time
A3: ATTR_PROD_ENERGY_EPREL_ID | B3: EPREL ID | C3: EPREL ID | D3: Integer
A4: PROD_FEAT_00003 | B4: Kleur (basis) | C4: Couleur (Base) | D4: List Of Values
A5: PROD_FEAT_10002 | B5: 0°C koelzone voor langere houdbaarheid | C5: Zone fraîcheur 0°C pour une durée de conservation plus longue | D5: Ja/Nee
A6: PROD_FEAT_10068 | B6: Afvoersysteem | C6: Système d'évacuation | D6: List Of Values
A7: PROD_FEAT_10139 | B7: Aansluitvermogen | C7: Puissance de raccordement | D7: Numeric Text
A8: PROD_FEAT_10141 | B8: Anti-bacteriële deurrubbers | C8: Joint antibactérien | D8: Ja/Nee
A9: PROD_FEAT_10170 | B9: Aantal ovens | C9: Nombre de fours | D9: Numeric Text
A10: PROD_FEAT_10219 | B10: Aantal kookzones | C10: Nombre de zones de cuisson | D10: Text
A11: PROD_FEAT_10310 | B11: Ophanging afzuigkap | C11: Suspension de la hotte | D11: Text
A12: PROD_FEAT_10333 | B12: Ontdooifunctie | C12: Fonction de décongélation | D12: Ja/Nee
... A312: PROD_FEAT_91349 | B312: Condensatie-efficiëntie | C312: Efficacité de la condensation | D312: Number

Sheet Afzuigkappen_FR
A1: FET_FRA_1008 | H1: Additional information if required | I1: =VLOOKUP(I2,PROD_FEAT,4,FALSE) -> Text | J1: =VLOOKUP(J2,PROD_FEAT,4,FALSE) -> Text | K1: =VLOOKUP(K2,PROD_FEAT,4,FALSE) -> List Of Values | L1: =VLOOKUP(L2,PROD_FEAT,4,FALSE) -> Text | M1: =VLOOKUP(M2,PROD_FEAT,4,FALSE) -> List Of Values | N1: =VLOOKUP(N2,PROD_FEAT,4,FALSE) -> Text | O1: =VLOOKUP(O2,PROD_FEAT,4,FALSE) -> List Of Values | P1: =VLOOKUP(P2,PROD_FEAT,4,FALSE) -> Text | ... CL1: =VLOOKUP(CL2,PROD_FEAT,4,FALSE) -> Text
A2: Wetransfer link or Brand portal | B2: <ID> | C2: Product EAN Masterdata | E2: Product name | F2: ATTR_PROD_CustomerProductName | G2: ATTR_PROD_LongDesription | I2: PROD_FEAT_10990 | J2: PROD_FEAT_90068 | K2: PROD_FEAT_16520 | L2: PROD_FEAT_10812 | M2: PROD_FEAT_00003 | N2: PROD_FEAT_14384 | O2: PROD_FEAT_10068 | P2: PROD_FEAT_10845 | Q2: PROD_FEAT_15086 | R2: PROD_FEAT_13597 | S2: PROD_FEAT_13322 | T2: PROD_FEAT_13559 | U2: PROD_FEAT_14983 | V2: PROD_FEAT_91064 | W2: ATTR_PROD_ENERGY_EPREL_ID | X2: PROD_FEAT_18135 | Y2: PROD_FEAT_91013 | Z2: PROD_FEAT_91014 | AA2: PROD_FEAT_10770 | AB2: PROD_FEAT_91012 | AC2: PROD_FEAT_90057 | AD2: PROD_FEAT_16111 | AE2: PROD_FEAT_16110 | AF2: PROD_FEAT_16112 | AG2: PROD_FEAT_16333 | AH2: PROD_FEAT_14701 | AI2: PROD_FEAT_14700 | AJ2: PROD_FEAT_14702 | AK2: PROD_FEAT_14704 | AL2: PROD_FEAT_13416 | AM2: PROD_FEAT_10310 | AN2: PROD_FEAT_10705 | AO2: PROD_FEAT_10986 | AP2: PROD_FEAT_10449 | AQ2: PROD_FEAT_14435 | AR2: PROD_FEAT_10139 | AS2: PROD_FEAT_11470 | AT2: PROD_FEAT_16207 | AU2: PROD_FEAT_16208 | AV2: ATTR_PROD_EUCNCode | AW2: PROD_FEAT_13366 | AX2: PROD_FEAT_10826 | AY2: PROD_FEAT_12120 | AZ2: PROD_FEAT_16374 | BA2: PROD_FEAT_15749 | BB2: PROD_FEAT_10961 | BC2: PROD_FEAT_15132 | BD2: PROD_FEAT_14951 | BE2: PROD_FEAT_15089 | BF2: PROD_FEAT_14482 | BG2: PROD_FEAT_16962 | BH2: PROD_FEAT_18889 | BI2: PROD_FEAT_91061 | BJ2: PROD_FEAT_15104 | BK2: PROD_FEAT_13618 | BL2: PROD_FEAT_16381 | BM2: PROD_FEAT_14513 | BN2: PROD_FEAT_14515 | BO2: PROD_FEAT_16142 | BP2: PROD_FEAT_16914 | BQ2: PROD_FEAT_16943 | BR2: PROD_FEAT_15742 | BS2: PROD_FEAT_16866 | BT2: PROD_FEAT_16919 | BU2: PROD_FEAT_16918 | BV2: PROD_FEAT_16743 | BW2: PROD_FEAT_16744 | BX2: PROD_FEAT_16747 | BY2: PROD_FEAT_16745 | BZ2: PROD_FEAT_16617 | CA2: PROD_FEAT_16746 | CB2: ATTR_PROD_CONFIDENTIAL_UNTIL | CC2: ATTR_PROD_MANU_OverrideContactDetails | CD2: ATTR_PROD_MANU_LegalName | CE2: ATTR_PROD_MANU_Email | CF2: ATTR_PROD_MANU_WebsiteURL | CG2: ATTR_PROD_MANU_EuEstablished | CH2: ATTR_PROD_MANU_AddressLine | CI2: ATTR_PROD_MANU_AddressCity | CJ2: ATTR_PROD_MANU_AddressZipCode | CK2: ATTR_PROD_MANU_AddressCountry | CL2: ATTR_PROD_MANU_AddressDetails
B3: Mediamarkt ID only | F3: Automatized | I3: =VLOOKUP(I2,PROD_FEAT,3,FALSE) -> Type de produit | J3: =VLOOKUP(J2,PROD_FEAT,3,FALSE) -> Nom / désignation du modèle : | K3: =VLOOKUP(K2,PROD_FEAT,3,FALSE) -> Forme de construction | L3: =VLOOKUP(L2,PROD_FEAT,3,FALSE) -> Couleur (selon le fabriquant) | M3: =VLOOKUP(M2,PROD_FEAT,3,FALSE) -> Couleur (Base) | N3: =VLOOKUP(N2,PROD_FEAT,3,FALSE) -> Éléments de commande | O3: =VLOOKUP(O2,PROD_FEAT,3,FALSE) -> Système d'évacuation | P3: =VLOOKUP(P2,PROD_FEAT,3,FALSE) -> Système de filtre | ... CL3: =VLOOKUP(CL2,PROD_FEAT,3,FALSE) -> Manufacturer Address Additional Details
A4: Afbeeldingen | B4: <ID> | C4: EAN | D4: Merk | E4: Product name | F4: Customer-friendly Product Name | G4: Producttekst | I4: =VLOOKUP(I2,PROD_FEAT,2,FALSE) -> Producttype | J4: =VLOOKUP(J2,PROD_FEAT,2,FALSE) -> Modelnaam / -kenmerk: | K4: =VLOOKUP(K2,PROD_FEAT,2,FALSE) -> Soort apparaat | L4: =VLOOKUP(L2,PROD_FEAT,2,FALSE) -> Kleur (door fabrikant) | M4: =VLOOKUP(M2,PROD_FEAT,2,FALSE) -> Kleur (basis) | N4: =VLOOKUP(N2,PROD_FEAT,2,FALSE) -> Bedieningselementen | O4: =VLOOKUP(O2,PROD_FEAT,2,FALSE) -> Afvoersysteem | P4: =VLOOKUP(P2,PROD_FEAT,2,FALSE) -> Filtersysteem | ... CL4: =VLOOKUP(CL2,PROD_FEAT,2,FALSE) -> Manufacturer Address Additional Details
A5: =IF(OR(#REF!="",ISERROR(#REF!)),"",#REF!) -> #REF! | B5: =IF(OR(#REF!="",ISERROR(#REF!)),"",#REF!) -> #REF! | C5: =IF(OR(#REF!="",ISERROR(#REF!)),"",#REF!) -> #REF! | D5: =IF(OR(#REF!="",ISERROR(#REF!)),"",#REF!) -> #REF! | E5: =IF(OR(#REF!="",ISERROR(#REF!)),"",#REF!) -> #REF! | F5: =IF(C5="", "", IF(E5="", "Product name empty!", E5 & IF(K5<>"", " - Hotte aspirante (" & K5 & ")", "") & IF(AE5<>"", " - largeur " &AE5, "") & IF(R5<>"", " - " &R5, "") & IF(V5<>"", " - " &V5, ""))) -> #REF! | G5: =IF(OR(#REF!="",ISERROR(#REF!)),"",#REF!) -> #REF! | H5: xxxxxx | I5: =IF(#REF!="","",IFERROR(VLOOKUP(#REF!,Translate,2,FALSE),#REF!)) -> #REF! | J5: =IF(#REF!="","",IFERROR(VLOOKUP(#REF!,Translate,2,FALSE),#REF!)) -> #REF! | K5: =IF(#REF!="","",IFERROR(VLOOKUP(#REF!,Translate,2,FALSE),#REF!)) -> #REF! | L5: =IF(#REF!="","",IFERROR(VLOOKUP(#REF!,Translate,2,FALSE),#REF!)) -> #REF! | M5: =IF(#REF!="","",IFERROR(VLOOKUP(#REF!,Translate,2,FALSE),#REF!)) -> #REF! | N5: =IF(#REF!="","",IFERROR(VLOOKUP(#REF!,Translate,2,FALSE),#REF!)) -> #REF! | O5: =IF(#REF!="","",IFERROR(VLOOKUP(#REF!,Translate,2,FALSE),#REF!)) -> #REF! | P5: =IF(#REF!="","",IFERROR(VLOOKUP(#REF!,Translate,2,FALSE),#REF!)) -> #REF! | ... CL5: =IF(#REF!="","",IFERROR(VLOOKUP(#REF!,Translate,2,FALSE),#REF!)) -> #REF!
A6: =IF(OR(#REF!="",ISERROR(#REF!)),"",#REF!) -> #REF! | B6: =IF(OR(#REF!="",ISERROR(#REF!)),"",#REF!) -> #REF! | C6: =IF(OR(#REF!="",ISERROR(#REF!)),"",#REF!) -> #REF! | D6: =IF(OR(#REF!="",ISERROR(#REF!)),"",#REF!) -> #REF! | E6: =IF(OR(#REF!="",ISERROR(#REF!)),"",#REF!) -> #REF! | F6: =IF(C6="", "", IF(E6="", "Product name empty!", E6 & IF(K6<>"", " - Hotte aspirante (" & K6 & ")", "") & IF(AE6<>"", " - largeur " &AE6, "") & IF(R6<>"", " - " &R6, "") & IF(V6<>"", " - " &V6, ""))) -> #REF! | G6: =IF(OR(#REF!="",ISERROR(#REF!)),"",#REF!) -> #REF! | I6: =IF(#REF!="","",IFERROR(VLOOKUP(#REF!,Translate,2,FALSE),#REF!)) -> #REF! | J6: =IF(#REF!="","",IFERROR(VLOOKUP(#REF!,Translate,2,FALSE),#REF!)) -> #REF! | K6: =IF(#REF!="","",IFERROR(VLOOKUP(#REF!,Translate,2,FALSE),#REF!)) -> #REF! | L6: =IF(#REF!="","",IFERROR(VLOOKUP(#REF!,Translate,2,FALSE),#REF!)) -> #REF! | M6: =IF(#REF!="","",IFERROR(VLOOKUP(#REF!,Translate,2,FALSE),#REF!)) -> #REF! | N6: =IF(#REF!="","",IFERROR(VLOOKUP(#REF!,Translate,2,FALSE),#REF!)) -> #REF! | O6: =IF(#REF!="","",IFERROR(VLOOKUP(#REF!,Translate,2,FALSE),#REF!)) -> #REF! | P6: =IF(#REF!="","",IFERROR(VLOOKUP(#REF!,Translate,2,FALSE),#REF!)) -> #REF! | ... CL6: =IF(#REF!="","",IFERROR(VLOOKUP(#REF!,Translate,2,FALSE),#REF!)) -> #REF!
A7: =IF(OR(#REF!="",ISERROR(#REF!)),"",#REF!) -> #REF! | B7: =IF(OR(#REF!="",ISERROR(#REF!)),"",#REF!) -> #REF! | C7: =IF(OR(#REF!="",ISERROR(#REF!)),"",#REF!) -> #REF! | D7: =IF(OR(#REF!="",ISERROR(#REF!)),"",#REF!) -> #REF! | E7: =IF(OR(#REF!="",ISERROR(#REF!)),"",#REF!) -> #REF! | F7: =IF(C7="", "", IF(E7="", "Product name empty!", E7 & IF(K7<>"", " - Hotte aspirante (" & K7 & ")", "") & IF(AE7<>"", " - largeur " &AE7, "") & IF(R7<>"", " - " &R7, "") & IF(V7<>"", " - " &V7, ""))) -> #REF! | G7: =IF(OR(#REF!="",ISERROR(#REF!)),"",#REF!) -> #REF! | I7: =IF(#REF!="","",IFERROR(VLOOKUP(#REF!,Translate,2,FALSE),#REF!)) -> #REF! | J7: =IF(#REF!="","",IFERROR(VLOOKUP(#REF!,Translate,2,FALSE),#REF!)) -> #REF! | K7: =IF(#REF!="","",IFERROR(VLOOKUP(#REF!,Translate,2,FALSE),#REF!)) -> #REF! | L7: =IF(#REF!="","",IFERROR(VLOOKUP(#REF!,Translate,2,FALSE),#REF!)) -> #REF! | M7: =IF(#REF!="","",IFERROR(VLOOKUP(#REF!,Translate,2,FALSE),#REF!)) -> #REF! | N7: =IF(#REF!="","",IFERROR(VLOOKUP(#REF!,Translate,2,FALSE),#REF!)) -> #REF! | O7: =IF(#REF!="","",IFERROR(VLOOKUP(#REF!,Translate,2,FALSE),#REF!)) -> #REF! | P7: =IF(#REF!="","",IFERROR(VLOOKUP(#REF!,Translate,2,FALSE),#REF!)) -> #REF! | ... CL7: =IF(#REF!="","",IFERROR(VLOOKUP(#REF!,Translate,2,FALSE),#REF!)) -> #REF!
A8: =IF(OR(#REF!="",ISERROR(#REF!)),"",#REF!) -> #REF! | B8: =IF(OR(#REF!="",ISERROR(#REF!)),"",#REF!) -> #REF! | C8: =IF(OR(#REF!="",ISERROR(#REF!)),"",#REF!) -> #REF! | D8: =IF(OR(#REF!="",ISERROR(#REF!)),"",#REF!) -> #REF! | E8: =IF(OR(#REF!="",ISERROR(#REF!)),"",#REF!) -> #REF! | F8: =IF(C8="", "", IF(E8="", "Product name empty!", E8 & IF(K8<>"", " - Hotte aspirante (" & K8 & ")", "") & IF(AE8<>"", " - largeur " &AE8, "") & IF(R8<>"", " - " &R8, "") & IF(V8<>"", " - " &V8, ""))) -> #REF! | G8: =IF(OR(#REF!="",ISERROR(#REF!)),"",#REF!) -> #REF! | I8: =IF(#REF!="","",IFERROR(VLOOKUP(#REF!,Translate,2,FALSE),#REF!)) -> #REF! | J8: =IF(#REF!="","",IFERROR(VLOOKUP(#REF!,Translate,2,FALSE),#REF!)) -> #REF! | K8: =IF(#REF!="","",IFERROR(VLOOKUP(#REF!,Translate,2,FALSE),#REF!)) -> #REF! | L8: =IF(#REF!="","",IFERROR(VLOOKUP(#REF!,Translate,2,FALSE),#REF!)) -> #REF! | M8: =IF(#REF!="","",IFERROR(VLOOKUP(#REF!,Translate,2,FALSE),#REF!)) -> #REF! | N8: =IF(#REF!="","",IFERROR(VLOOKUP(#REF!,Translate,2,FALSE),#REF!)) -> #REF! | O8: =IF(#REF!="","",IFERROR(VLOOKUP(#REF!,Translate,2,FALSE),#REF!)) -> #REF! | P8: =IF(#REF!="","",IFERROR(VLOOKUP(#REF!,Translate,2,FALSE),#REF!)) -> #REF! | ... CL8: =IF(#REF!="","",IFERROR(VLOOKUP(#REF!,Translate,2,FALSE),#REF!)) -> #REF!
A9: =IF(OR(#REF!="",ISERROR(#REF!)),"",#REF!) -> #REF! | B9: =IF(OR(#REF!="",ISERROR(#REF!)),"",#REF!) -> #REF! | C9: =IF(OR(#REF!="",ISERROR(#REF!)),"",#REF!) -> #REF! | D9: =IF(OR(#REF!="",ISERROR(#REF!)),"",#REF!) -> #REF! | E9: =IF(OR(#REF!="",ISERROR(#REF!)),"",#REF!) -> #REF! | F9: =IF(C9="", "", IF(E9="", "Product name empty!", E9 & IF(K9<>"", " - Hotte aspirante (" & K9 & ")", "") & IF(AE9<>"", " - largeur " &AE9, "") & IF(R9<>"", " - " &R9, "") & IF(V9<>"", " - " &V9, ""))) -> #REF! | G9: =IF(OR(#REF!="",ISERROR(#REF!)),"",#REF!) -> #REF! | I9: =IF(#REF!="","",IFERROR(VLOOKUP(#REF!,Translate,2,FALSE),#REF!)) -> #REF! | J9: =IF(#REF!="","",IFERROR(VLOOKUP(#REF!,Translate,2,FALSE),#REF!)) -> #REF! | K9: =IF(#REF!="","",IFERROR(VLOOKUP(#REF!,Translate,2,FALSE),#REF!)) -> #REF! | L9: =IF(#REF!="","",IFERROR(VLOOKUP(#REF!,Translate,2,FALSE),#REF!)) -> #REF! | M9: =IF(#REF!="","",IFERROR(VLOOKUP(#REF!,Translate,2,FALSE),#REF!)) -> #REF! | N9: =IF(#REF!="","",IFERROR(VLOOKUP(#REF!,Translate,2,FALSE),#REF!)) -> #REF! | O9: =IF(#REF!="","",IFERROR(VLOOKUP(#REF!,Translate,2,FALSE),#REF!)) -> #REF! | P9: =IF(#REF!="","",IFERROR(VLOOKUP(#REF!,Translate,2,FALSE),#REF!)) -> #REF! | ... CL9: =IF(#REF!="","",IFERROR(VLOOKUP(#REF!,Translate,2,FALSE),#REF!)) -> #REF!
A10: =IF(OR(#REF!="",ISERROR(#REF!)),"",#REF!) -> #REF! | B10: =IF(OR(#REF!="",ISERROR(#REF!)),"",#REF!) -> #REF! | C10: =IF(OR(#REF!="",ISERROR(#REF!)),"",#REF!) -> #REF! | D10: =IF(OR(#REF!="",ISERROR(#REF!)),"",#REF!) -> #REF! | E10: =IF(OR(#REF!="",ISERROR(#REF!)),"",#REF!) -> #REF! | F10: =IF(C10="", "", IF(E10="", "Product name empty!", E10 & IF(K10<>"", " - Hotte aspirante (" & K10 & ")", "") & IF(AE10<>"", " - largeur " &AE10, "") & IF(R10<>"", " - " &R10, "") & IF(V10<>"", " - " &V10, ""))) -> #REF! | G10: =IF(OR(#REF!="",ISERROR(#REF!)),"",#REF!) -> #REF! | I10: =IF(#REF!="","",IFERROR(VLOOKUP(#REF!,Translate,2,FALSE),#REF!)) -> #REF! | J10: =IF(#REF!="","",IFERROR(VLOOKUP(#REF!,Translate,2,FALSE),#REF!)) -> #REF! | K10: =IF(#REF!="","",IFERROR(VLOOKUP(#REF!,Translate,2,FALSE),#REF!)) -> #REF! | L10: =IF(#REF!="","",IFERROR(VLOOKUP(#REF!,Translate,2,FALSE),#REF!)) -> #REF! | M10: =IF(#REF!="","",IFERROR(VLOOKUP(#REF!,Translate,2,FALSE),#REF!)) -> #REF! | N10: =IF(#REF!="","",IFERROR(VLOOKUP(#REF!,Translate,2,FALSE),#REF!)) -> #REF! | O10: =IF(#REF!="","",IFERROR(VLOOKUP(#REF!,Translate,2,FALSE),#REF!)) -> #REF! | P10: =IF(#REF!="","",IFERROR(VLOOKUP(#REF!,Translate,2,FALSE),#REF!)) -> #REF! | ... CL10: =IF(#REF!="","",IFERROR(VLOOKUP(#REF!,Translate,2,FALSE),#REF!)) -> #REF!
A11: =IF(OR(#REF!="",ISERROR(#REF!)),"",#REF!) -> #REF! | B11: =IF(OR(#REF!="",ISERROR(#REF!)),"",#REF!) -> #REF! | C11: =IF(OR(#REF!="",ISERROR(#REF!)),"",#REF!) -> #REF! | D11: =IF(OR(#REF!="",ISERROR(#REF!)),"",#REF!) -> #REF! | E11: =IF(OR(#REF!="",ISERROR(#REF!)),"",#REF!) -> #REF! | F11: =IF(C11="", "", IF(E11="", "Product name empty!", E11 & IF(K11<>"", " - Hotte aspirante (" & K11 & ")", "") & IF(AE11<>"", " - largeur " &AE11, "") & IF(R11<>"", " - " &R11, "") & IF(V11<>"", " - " &V11, ""))) -> #REF! | G11: =IF(OR(#REF!="",ISERROR(#REF!)),"",#REF!) -> #REF! | I11: =IF(#REF!="","",IFERROR(VLOOKUP(#REF!,Translate,2,FALSE),#REF!)) -> #REF! | J11: =IF(#REF!="","",IFERROR(VLOOKUP(#REF!,Translate,2,FALSE),#REF!)) -> #REF! | K11: =IF(#REF!="","",IFERROR(VLOOKUP(#REF!,Translate,2,FALSE),#REF!)) -> #REF! | L11: =IF(#REF!="","",IFERROR(VLOOKUP(#REF!,Translate,2,FALSE),#REF!)) -> #REF! | M11: =IF(#REF!="","",IFERROR(VLOOKUP(#REF!,Translate,2,FALSE),#REF!)) -> #REF! | N11: =IF(#REF!="","",IFERROR(VLOOKUP(#REF!,Translate,2,FALSE),#REF!)) -> #REF! | O11: =IF(#REF!="","",IFERROR(VLOOKUP(#REF!,Translate,2,FALSE),#REF!)) -> #REF! | P11: =IF(#REF!="","",IFERROR(VLOOKUP(#REF!,Translate,2,FALSE),#REF!)) -> #REF! | ... CL11: =IF(#REF!="","",IFERROR(VLOOKUP(#REF!,Translate,2,FALSE),#REF!)) -> #REF!
A12: =IF(OR(#REF!="",ISERROR(#REF!)),"",#REF!) -> #REF! | B12: =IF(OR(#REF!="",ISERROR(#REF!)),"",#REF!) -> #REF! | C12: =IF(OR(#REF!="",ISERROR(#REF!)),"",#REF!) -> #REF! | D12: =IF(OR(#REF!="",ISERROR(#REF!)),"",#REF!) -> #REF! | E12: =IF(OR(#REF!="",ISERROR(#REF!)),"",#REF!) -> #REF! | F12: =IF(C12="", "", IF(E12="", "Product name empty!", E12 & IF(K12<>"", " - Hotte aspirante (" & K12 & ")", "") & IF(AE12<>"", " - largeur " &AE12, "") & IF(R12<>"", " - " &R12, "") & IF(V12<>"", " - " &V12, ""))) -> #REF! | G12: =IF(OR(#REF!="",ISERROR(#REF!)),"",#REF!) -> #REF! | I12: =IF(#REF!="","",IFERROR(VLOOKUP(#REF!,Translate,2,FALSE),#REF!)) -> #REF! | J12: =IF(#REF!="","",IFERROR(VLOOKUP(#REF!,Translate,2,FALSE),#REF!)) -> #REF! | K12: =IF(#REF!="","",IFERROR(VLOOKUP(#REF!,Translate,2,FALSE),#REF!)) -> #REF! | L12: =IF(#REF!="","",IFERROR(VLOOKUP(#REF!,Translate,2,FALSE),#REF!)) -> #REF! | M12: =IF(#REF!="","",IFERROR(VLOOKUP(#REF!,Translate,2,FALSE),#REF!)) -> #REF! | N12: =IF(#REF!="","",IFERROR(VLOOKUP(#REF!,Translate,2,FALSE),#REF!)) -> #REF! | O12: =IF(#REF!="","",IFERROR(VLOOKUP(#REF!,Translate,2,FALSE),#REF!)) -> #REF! | P12: =IF(#REF!="","",IFERROR(VLOOKUP(#REF!,Translate,2,FALSE),#REF!)) -> #REF! | ... CL12: =IF(#REF!="","",IFERROR(VLOOKUP(#REF!,Translate,2,FALSE),#REF!)) -> #REF!
A13: =IF(OR(#REF!="",ISERROR(#REF!)),"",#REF!) -> #REF! | B13: =IF(OR(#REF!="",ISERROR(#REF!)),"",#REF!) -> #REF! | C13: =IF(OR(#REF!="",ISERROR(#REF!)),"",#REF!) -> #REF! | D13: =IF(OR(#REF!="",ISERROR(#REF!)),"",#REF!) -> #REF! | E13: =IF(OR(#REF!="",ISERROR(#REF!)),"",#REF!) -> #REF! | F13: =IF(C13="", "", IF(E13="", "Product name empty!", E13 & IF(K13<>"", " - Hotte aspirante (" & K13 & ")", "") & IF(AE13<>"", " - largeur " &AE13, "") & IF(R13<>"", " - " &R13, "") & IF(V13<>"", " - " &V13, ""))) -> #REF! | G13: =IF(OR(#REF!="",ISERROR(#REF!)),"",#REF!) -> #REF! | I13: =IF(#REF!="","",IFERROR(VLOOKUP(#REF!,Translate,2,FALSE),#REF!)) -> #REF! | J13: =IF(#REF!="","",IFERROR(VLOOKUP(#REF!,Translate,2,FALSE),#REF!)) -> #REF! | K13: =IF(#REF!="","",IFERROR(VLOOKUP(#REF!,Translate,2,FALSE),#REF!)) -> #REF! | L13: =IF(#REF!="","",IFERROR(VLOOKUP(#REF!,Translate,2,FALSE),#REF!)) -> #REF! | M13: =IF(#REF!="","",IFERROR(VLOOKUP(#REF!,Translate,2,FALSE),#REF!)) -> #REF! | N13: =IF(#REF!="","",IFERROR(VLOOKUP(#REF!,Translate,2,FALSE),#REF!)) -> #REF! | O13: =IF(#REF!="","",IFERROR(VLOOKUP(#REF!,Translate,2,FALSE),#REF!)) -> #REF! | P13: =IF(#REF!="","",IFERROR(VLOOKUP(#REF!,Translate,2,FALSE),#REF!)) -> #REF! | ... CL13: =IF(#REF!="","",IFERROR(VLOOKUP(#REF!,Translate,2,FALSE),#REF!)) -> #REF!
A14: =IF(OR(#REF!="",ISERROR(#REF!)),"",#REF!) -> #REF! | B14: =IF(OR(#REF!="",ISERROR(#REF!)),"",#REF!) -> #REF! | C14: =IF(OR(#REF!="",ISERROR(#REF!)),"",#REF!) -> #REF! | D14: =IF(OR(#REF!="",ISERROR(#REF!)),"",#REF!) -> #REF! | E14: =IF(OR(#REF!="",ISERROR(#REF!)),"",#REF!) -> #REF! | F14: =IF(C14="", "", IF(E14="", "Product name empty!", E14 & IF(K14<>"", " - Hotte aspirante (" & K14 & ")", "") & IF(AE14<>"", " - largeur " &AE14, "") & IF(R14<>"", " - " &R14, "") & IF(V14<>"", " - " &V14, ""))) -> #REF! | G14: =IF(OR(#REF!="",ISERROR(#REF!)),"",#REF!) -> #REF! | I14: =IF(#REF!="","",IFERROR(VLOOKUP(#REF!,Translate,2,FALSE),#REF!)) -> #REF! | J14: =IF(#REF!="","",IFERROR(VLOOKUP(#REF!,Translate,2,FALSE),#REF!)) -> #REF! | K14: =IF(#REF!="","",IFERROR(VLOOKUP(#REF!,Translate,2,FALSE),#REF!)) -> #REF! | L14: =IF(#REF!="","",IFERROR(VLOOKUP(#REF!,Translate,2,FALSE),#REF!)) -> #REF! | M14: =IF(#REF!="","",IFERROR(VLOOKUP(#REF!,Translate,2,FALSE),#REF!)) -> #REF! | N14: =IF(#REF!="","",IFERROR(VLOOKUP(#REF!,Translate,2,FALSE),#REF!)) -> #REF! | O14: =IF(#REF!="","",IFERROR(VLOOKUP(#REF!,Translate,2,FALSE),#REF!)) -> #REF! | P14: =IF(#REF!="","",IFERROR(VLOOKUP(#REF!,Translate,2,FALSE),#REF!)) -> #REF! | ... CL14: =IF(#REF!="","",IFERROR(VLOOKUP(#REF!,Translate,2,FALSE),#REF!)) -> #REF!
A15: =IF(OR(#REF!="",ISERROR(#REF!)),"",#REF!) -> #REF! | B15: =IF(OR(#REF!="",ISERROR(#REF!)),"",#REF!) -> #REF! | C15: =IF(OR(#REF!="",ISERROR(#REF!)),"",#REF!) -> #REF! | D15: =IF(OR(#REF!="",ISERROR(#REF!)),"",#REF!) -> #REF! | E15: =IF(OR(#REF!="",ISERROR(#REF!)),"",#REF!) -> #REF! | F15: =IF(C15="", "", IF(E15="", "Product name empty!", E15 & IF(K15<>"", " - Hotte aspirante (" & K15 & ")", "") & IF(AE15<>"", " - largeur " &AE15, "") & IF(R15<>"", " - " &R15, "") & IF(V15<>"", " - " &V15, ""))) -> #REF! | G15: =IF(OR(#REF!="",ISERROR(#REF!)),"",#REF!) -> #REF! | I15: =IF(#REF!="","",IFERROR(VLOOKUP(#REF!,Translate,2,FALSE),#REF!)) -> #REF! | J15: =IF(#REF!="","",IFERROR(VLOOKUP(#REF!,Translate,2,FALSE),#REF!)) -> #REF! | K15: =IF(#REF!="","",IFERROR(VLOOKUP(#REF!,Translate,2,FALSE),#REF!)) -> #REF! | L15: =IF(#REF!="","",IFERROR(VLOOKUP(#REF!,Translate,2,FALSE),#REF!)) -> #REF! | M15: =IF(#REF!="","",IFERROR(VLOOKUP(#REF!,Translate,2,FALSE),#REF!)) -> #REF! | N15: =IF(#REF!="","",IFERROR(VLOOKUP(#REF!,Translate,2,FALSE),#REF!)) -> #REF! | O15: =IF(#REF!="","",IFERROR(VLOOKUP(#REF!,Translate,2,FALSE),#REF!)) -> #REF! | P15: =IF(#REF!="","",IFERROR(VLOOKUP(#REF!,Translate,2,FALSE),#REF!)) -> #REF! | ... CL15: =IF(#REF!="","",IFERROR(VLOOKUP(#REF!,Translate,2,FALSE),#REF!)) -> #REF!
A16: =IF(OR(#REF!="",ISERROR(#REF!)),"",#REF!) -> #REF! | B16: =IF(OR(#REF!="",ISERROR(#REF!)),"",#REF!) -> #REF! | C16: =IF(OR(#REF!="",ISERROR(#REF!)),"",#REF!) -> #REF! | D16: =IF(OR(#REF!="",ISERROR(#REF!)),"",#REF!) -> #REF! | E16: =IF(OR(#REF!="",ISERROR(#REF!)),"",#REF!) -> #REF! | F16: =IF(C16="", "", IF(E16="", "Product name empty!", E16 & IF(K16<>"", " - Hotte aspirante (" & K16 & ")", "") & IF(AE16<>"", " - largeur " &AE16, "") & IF(R16<>"", " - " &R16, "") & IF(V16<>"", " - " &V16, ""))) -> #REF! | G16: =IF(OR(#REF!="",ISERROR(#REF!)),"",#REF!) -> #REF! | I16: =IF(#REF!="","",IFERROR(VLOOKUP(#REF!,Translate,2,FALSE),#REF!)) -> #REF! | J16: =IF(#REF!="","",IFERROR(VLOOKUP(#REF!,Translate,2,FALSE),#REF!)) -> #REF! | K16: =IF(#REF!="","",IFERROR(VLOOKUP(#REF!,Translate,2,FALSE),#REF!)) -> #REF! | L16: =IF(#REF!="","",IFERROR(VLOOKUP(#REF!,Translate,2,FALSE),#REF!)) -> #REF! | M16: =IF(#REF!="","",IFERROR(VLOOKUP(#REF!,Translate,2,FALSE),#REF!)) -> #REF! | N16: =IF(#REF!="","",IFERROR(VLOOKUP(#REF!,Translate,2,FALSE),#REF!)) -> #REF! | O16: =IF(#REF!="","",IFERROR(VLOOKUP(#REF!,Translate,2,FALSE),#REF!)) -> #REF! | P16: =IF(#REF!="","",IFERROR(VLOOKUP(#REF!,Translate,2,FALSE),#REF!)) -> #REF! | ... CL16: =IF(#REF!="","",IFERROR(VLOOKUP(#REF!,Translate,2,FALSE),#REF!)) -> #REF!
A17: =IF(OR(#REF!="",ISERROR(#REF!)),"",#REF!) -> #REF! | B17: =IF(OR(#REF!="",ISERROR(#REF!)),"",#REF!) -> #REF! | C17: =IF(OR(#REF!="",ISERROR(#REF!)),"",#REF!) -> #REF! | D17: =IF(OR(#REF!="",ISERROR(#REF!)),"",#REF!) -> #REF! | E17: =IF(OR(#REF!="",ISERROR(#REF!)),"",#REF!) -> #REF! | F17: =IF(C17="", "", IF(E17="", "Product name empty!", E17 & IF(K17<>"", " - Hotte aspirante (" & K17 & ")", "") & IF(AE17<>"", " - largeur " &AE17, "") & IF(R17<>"", " - " &R17, "") & IF(V17<>"", " - " &V17, ""))) -> #REF! | G17: =IF(OR(#REF!="",ISERROR(#REF!)),"",#REF!) -> #REF! | I17: =IF(#REF!="","",IFERROR(VLOOKUP(#REF!,Translate,2,FALSE),#REF!)) -> #REF! | J17: =IF(#REF!="","",IFERROR(VLOOKUP(#REF!,Translate,2,FALSE),#REF!)) -> #REF! | K17: =IF(#REF!="","",IFERROR(VLOOKUP(#REF!,Translate,2,FALSE),#REF!)) -> #REF! | L17: =IF(#REF!="","",IFERROR(VLOOKUP(#REF!,Translate,2,FALSE),#REF!)) -> #REF! | M17: =IF(#REF!="","",IFERROR(VLOOKUP(#REF!,Translate,2,FALSE),#REF!)) -> #REF! | N17: =IF(#REF!="","",IFERROR(VLOOKUP(#REF!,Translate,2,FALSE),#REF!)) -> #REF! | O17: =IF(#REF!="","",IFERROR(VLOOKUP(#REF!,Translate,2,FALSE),#REF!)) -> #REF! | P17: =IF(#REF!="","",IFERROR(VLOOKUP(#REF!,Translate,2,FALSE),#REF!)) -> #REF! | ... CL17: =IF(#REF!="","",IFERROR(VLOOKUP(#REF!,Translate,2,FALSE),#REF!)) -> #REF!
